BEGIN:VCALENDAR
VERSION:2.0
PRODID:-//British Kashmiri Medical Association - ECPv6.15.16//NONSGML v1.0//EN
CALSCALE:GREGORIAN
METHOD:PUBLISH
X-WR-CALNAME:British Kashmiri Medical Association
X-ORIGINAL-URL:https://bkma.uk
X-WR-CALDESC:Events for British Kashmiri Medical Association
REFRESH-INTERVAL;VALUE=DURATION:PT1H
X-Robots-Tag:noindex
X-PUBLISHED-TTL:PT1H
BEGIN:VTIMEZONE
TZID:UTC
BEGIN:STANDARD
TZOFFSETFROM:+0000
TZOFFSETTO:+0000
TZNAME:UTC
DTSTART:20230101T000000
END:STANDARD
END:VTIMEZONE
BEGIN:VEVENT
DTSTART;VALUE=DATE:20240808
DTEND;VALUE=DATE:20240809
DTSTAMP:20260420T082626
CREATED:20241117T143502Z
LAST-MODIFIED:20241205T164409Z
UID:2753-1723075200-1723161599@bkma.uk
SUMMARY:Simulation of Advanced Paediatric Life Saving Coure (GMC Islamabad)
DESCRIPTION:
URL:https://bkma.uk/event/simulation-of-advanced-paediatric-life-saving-coure-gmc-islamabad/
LOCATION:GMC Islamabad
END:VEVENT
END:VCALENDAR