BEGIN:VCALENDAR
VERSION:2.0
PRODID:-//British Kashmiri Medical Association - ECPv6.15.16//NONSGML v1.0//EN
CALSCALE:GREGORIAN
METHOD:PUBLISH
X-ORIGINAL-URL:https://bkma.uk
X-WR-CALDESC:Events for British Kashmiri Medical Association
REFRESH-INTERVAL;VALUE=DURATION:PT1H
X-Robots-Tag:noindex
X-PUBLISHED-TTL:PT1H
BEGIN:VTIMEZONE
TZID:UTC
BEGIN:STANDARD
TZOFFSETFROM:+0000
TZOFFSETTO:+0000
TZNAME:UTC
DTSTART:20230101T000000
END:STANDARD
END:VTIMEZONE
BEGIN:VEVENT
DTSTART;VALUE=DATE:20240427
DTEND;VALUE=DATE:20240428
DTSTAMP:20260422T164715
CREATED:20241117T145155Z
LAST-MODIFIED:20241117T150503Z
UID:2774-1714176000-1714262399@bkma.uk
SUMMARY:Fundraising Dinner (The Royal Nawab\, London)
DESCRIPTION:Together\, we made history! Our first-ever fundraising event in London\, supported by the generosity of our members and participants\, raised over £100\,000. This incredible milestone is a step forward in supporting building a dedicated Paediatric Cardiac Hospital by J&K Hope and Health Foundation of Kashmir and for palliative care in Kashmir. Thank you for being part of this journey to make a lasting impact!” \n\n\n\n	\n		\n\n			\n		\n\n		\n		\n\n			\n		\n\n		\n\n\nhttps://https://bkma.uk/wp-content/uploads/2024/11/WhatsApp-Video-2024-11-10-at-16.53.48_874bd5c0.mp4
URL:https://bkma.uk/event/fundraising-dinner-the-royal-nawab-london/
LOCATION:The Royal Nawab\, London
END:VEVENT
END:VCALENDAR