BEGIN:VCALENDAR
VERSION:2.0
PRODID:-//British Kashmiri Medical Association - ECPv6.15.16//NONSGML v1.0//EN
CALSCALE:GREGORIAN
METHOD:PUBLISH
X-ORIGINAL-URL:https://bkma.uk
X-WR-CALDESC:Events for British Kashmiri Medical Association
REFRESH-INTERVAL;VALUE=DURATION:PT1H
X-Robots-Tag:noindex
X-PUBLISHED-TTL:PT1H
BEGIN:VTIMEZONE
TZID:UTC
BEGIN:STANDARD
TZOFFSETFROM:+0000
TZOFFSETTO:+0000
TZNAME:UTC
DTSTART:20220101T000000
END:STANDARD
END:VTIMEZONE
BEGIN:VEVENT
DTSTART;VALUE=DATE:20230930
DTEND;VALUE=DATE:20231001
DTSTAMP:20260423T053507
CREATED:20241117T145636Z
LAST-MODIFIED:20241117T150731Z
UID:2783-1696032000-1696118399@bkma.uk
SUMMARY:Memories of 2nd Annual Conference (Halliden Lakes Hotel\, Daventry\, UK)
DESCRIPTION:
URL:https://bkma.uk/event/memories-of-second-annual-conference-halliden-lakes-hotel-daventry-uk/
LOCATION:Halliden Lakes Hotel\, Daventry\, UK
END:VEVENT
END:VCALENDAR